Workbook

Sheet Dashboard
A1: RIFTBOUND · MY MATCH TRACKER
A2: Bo3 matches, kept by hand · 09 Apr – 05 Jun 2026 · 53 matches / 137 games
A4: MATCHES PLAYED | C4: RECORD (W – L – D) | E4: WIN RATE
A5: =COUNT('Match Log'!$A$2:$A$54) -> 53 | C5: =COUNTIF('Match Log'!$K$2:$K$54,"W")&" – "&COUNTIF('Match Log'!$K$2:$K$54,"L")&" – "&COUNTIF('Match Log'!$K$2:$K$54,"D") -> 29 – 19 – 5 | E5: =(COUNTIF('Match Log'!$K$2:$K$54,"W")*3+COUNTIF('Match Log'!$K$2:$K$54,"D"))/(COUNT('Match Log'!$A$2:$A$54)*3) -> 0.57861635
A7: GAMES PLAYED | C7: LONGEST WIN STREAK | E7: WIN RATE · LAST 10
A8: =COUNT(Games!$A$2:$A$138) -> 137 | C8: =MAX('Match Log'!$P$2:$P$54) -> 4 | E8: =(COUNTIF('Match Log'!$K$45:$K$54,"W")*3+COUNTIF('Match Log'!$K$45:$K$54,"D"))/(COUNT('Match Log'!$A$45:$A$54)*3) -> 0.8
A11: By Deck (mine)
A12: Deck | B12: Played | C12: W | D12: L | E12: D | F12: Win %
A13: Irelia | B13: =COUNTIF('Match Log'!$F$2:$F$54,$A13) -> 26 | C13: =COUNTIFS('Match Log'!$F$2:$F$54,$A13,'Match Log'!$K$2:$K$54,"W") -> 14 | D13: =COUNTIFS('Match Log'!$F$2:$F$54,$A13,'Match Log'!$K$2:$K$54,"L") -> 8 | E13: =COUNTIFS('Match Log'!$F$2:$F$54,$A13,'Match Log'!$K$2:$K$54,"D") -> 4 | F13: =IFERROR((C13*3+E13)/(B13*3),0) -> 0.58974359
A14: LeBlanc | B14: =COUNTIF('Match Log'!$F$2:$F$54,$A14) -> 15 | C14: =COUNTIFS('Match Log'!$F$2:$F$54,$A14,'Match Log'!$K$2:$K$54,"W") -> 11 | D14: =COUNTIFS('Match Log'!$F$2:$F$54,$A14,'Match Log'!$K$2:$K$54,"L") -> 3 | E14: =COUNTIFS('Match Log'!$F$2:$F$54,$A14,'Match Log'!$K$2:$K$54,"D") -> 1 | F14: =IFERROR((C14*3+E14)/(B14*3),0) -> 0.75555556
A15: Sett | B15: =COUNTIF('Match Log'!$F$2:$F$54,$A15) -> 8 | C15: =COUNTIFS('Match Log'!$F$2:$F$54,$A15,'Match Log'!$K$2:$K$54,"W") -> 3 | D15: =COUNTIFS('Match Log'!$F$2:$F$54,$A15,'Match Log'!$K$2:$K$54,"L") -> 5 | E15: =COUNTIFS('Match Log'!$F$2:$F$54,$A15,'Match Log'!$K$2:$K$54,"D") -> 0 | F15: =IFERROR((C15*3+E15)/(B15*3),0) -> 0.375
A16: Teemo | B16: =COUNTIF('Match Log'!$F$2:$F$54,$A16) -> 4 | C16: =COUNTIFS('Match Log'!$F$2:$F$54,$A16,'Match Log'!$K$2:$K$54,"W") -> 1 | D16: =COUNTIFS('Match Log'!$F$2:$F$54,$A16,'Match Log'!$K$2:$K$54,"L") -> 3 | E16: =COUNTIFS('Match Log'!$F$2:$F$54,$A16,'Match Log'!$K$2:$K$54,"D") -> 0 | F16: =IFERROR((C16*3+E16)/(B16*3),0) -> 0.25
A18: Most-played opponents
A19: Opponent | B19: Played | C19: Record | D19: Win %
A20: Draven | B20: =COUNTIF('Match Log'!$G$2:$G$54,$A20) -> 10 | C20: =COUNTIFS('Match Log'!$G$2:$G$54,$A20,'Match Log'!$K$2:$K$54,"W")&"–"&COUNTIFS('Match Log'!$G$2:$G$54,$A20,'Match Log'!$K$2:$K$54,"L")&"–"&COUNTIFS('Match Log'!$G$2:$G$54,$A20,'Match Log'!$K$2:$K$54,"D") -> 3–5–2 | D20: =IFERROR((COUNTIFS('Match Log'!$G$2:$G$54,$A20,'Match Log'!$K$2:$K$54,"W")*3+COUNTIFS('Match Log'!$G$2:$G$54,$A20,'Match Log'!$K$2:$K$54,"D"))/(B20*3),0) -> 0.36666667
A21: Kai'Sa | B21: =COUNTIF('Match Log'!$G$2:$G$54,$A21) -> 8 | C21: =COUNTIFS('Match Log'!$G$2:$G$54,$A21,'Match Log'!$K$2:$K$54,"W")&"–"&COUNTIFS('Match Log'!$G$2:$G$54,$A21,'Match Log'!$K$2:$K$54,"L")&"–"&COUNTIFS('Match Log'!$G$2:$G$54,$A21,'Match Log'!$K$2:$K$54,"D") -> 3–5–0 | D21: =IFERROR((COUNTIFS('Match Log'!$G$2:$G$54,$A21,'Match Log'!$K$2:$K$54,"W")*3+COUNTIFS('Match Log'!$G$2:$G$54,$A21,'Match Log'!$K$2:$K$54,"D"))/(B21*3),0) -> 0.375
A22: Diana | B22: =COUNTIF('Match Log'!$G$2:$G$54,$A22) -> 6 | C22: =COUNTIFS('Match Log'!$G$2:$G$54,$A22,'Match Log'!$K$2:$K$54,"W")&"–"&COUNTIFS('Match Log'!$G$2:$G$54,$A22,'Match Log'!$K$2:$K$54,"L")&"–"&COUNTIFS('Match Log'!$G$2:$G$54,$A22,'Match Log'!$K$2:$K$54,"D") -> 5–1–0 | D22: =IFERROR((COUNTIFS('Match Log'!$G$2:$G$54,$A22,'Match Log'!$K$2:$K$54,"W")*3+COUNTIFS('Match Log'!$G$2:$G$54,$A22,'Match Log'!$K$2:$K$54,"D"))/(B22*3),0) -> 0.83333333
A23: Master Yi | B23: =COUNTIF('Match Log'!$G$2:$G$54,$A23) -> 5 | C23: =COUNTIFS('Match Log'!$G$2:$G$54,$A23,'Match Log'!$K$2:$K$54,"W")&"–"&COUNTIFS('Match Log'!$G$2:$G$54,$A23,'Match Log'!$K$2:$K$54,"L")&"–"&COUNTIFS('Match Log'!$G$2:$G$54,$A23,'Match Log'!$K$2:$K$54,"D") -> 4–1–0 | D23: =IFERROR((COUNTIFS('Match Log'!$G$2:$G$54,$A23,'Match Log'!$K$2:$K$54,"W")*3+COUNTIFS('Match Log'!$G$2:$G$54,$A23,'Match Log'!$K$2:$K$54,"D"))/(B23*3),0) -> 0.8
A24: Rumble | B24: =COUNTIF('Match Log'!$G$2:$G$54,$A24) -> 3 | C24: =COUNTIFS('Match Log'!$G$2:$G$54,$A24,'Match Log'!$K$2:$K$54,"W")&"–"&COUNTIFS('Match Log'!$G$2:$G$54,$A24,'Match Log'!$K$2:$K$54,"L")&"–"&COUNTIFS('Match Log'!$G$2:$G$54,$A24,'Match Log'!$K$2:$K$54,"D") -> 1–2–0 | D24: =IFERROR((COUNTIFS('Match Log'!$G$2:$G$54,$A24,'Match Log'!$K$2:$K$54,"W")*3+COUNTIFS('Match Log'!$G$2:$G$54,$A24,'Match Log'!$K$2:$K$54,"D"))/(B24*3),0) -> 0.33333333
A25: Lucian | B25: =COUNTIF('Match Log'!$G$2:$G$54,$A25) -> 2 | C25: =COUNTIFS('Match Log'!$G$2:$G$54,$A25,'Match Log'!$K$2:$K$54,"W")&"–"&COUNTIFS('Match Log'!$G$2:$G$54,$A25,'Match Log'!$K$2:$K$54,"L")&"–"&COUNTIFS('Match Log'!$G$2:$G$54,$A25,'Match Log'!$K$2:$K$54,"D") -> 1–1–0 | D25: =IFERROR((COUNTIFS('Match Log'!$G$2:$G$54,$A25,'Match Log'!$K$2:$K$54,"W")*3+COUNTIFS('Match Log'!$G$2:$G$54,$A25,'Match Log'!$K$2:$K$54,"D"))/(B25*3),0) -> 0.5
A26: Sivir | B26: =COUNTIF('Match Log'!$G$2:$G$54,$A26) -> 2 | C26: =COUNTIFS('Match Log'!$G$2:$G$54,$A26,'Match Log'!$K$2:$K$54,"W")&"–"&COUNTIFS('Match Log'!$G$2:$G$54,$A26,'Match Log'!$K$2:$K$54,"L")&"–"&COUNTIFS('Match Log'!$G$2:$G$54,$A26,'Match Log'!$K$2:$K$54,"D") -> 0–1–1 | D26: =IFERROR((COUNTIFS('Match Log'!$G$2:$G$54,$A26,'Match Log'!$K$2:$K$54,"W")*3+COUNTIFS('Match Log'!$G$2:$G$54,$A26,'Match Log'!$K$2:$K$54,"D"))/(B26*3),0) -> 0.16666667
A27: Jhin | B27: =COUNTIF('Match Log'!$G$2:$G$54,$A27) -> 2 | C27: =COUNTIFS('Match Log'!$G$2:$G$54,$A27,'Match Log'!$K$2:$K$54,"W")&"–"&COUNTIFS('Match Log'!$G$2:$G$54,$A27,'Match Log'!$K$2:$K$54,"L")&"–"&COUNTIFS('Match Log'!$G$2:$G$54,$A27,'Match Log'!$K$2:$K$54,"D") -> 1–0–1 | D27: =IFERROR((COUNTIFS('Match Log'!$G$2:$G$54,$A27,'Match Log'!$K$2:$K$54,"W")*3+COUNTIFS('Match Log'!$G$2:$G$54,$A27,'Match Log'!$K$2:$K$54,"D"))/(B27*3),0) -> 0.66666667
A29: By event type
A30: Type | B30: Played | C30: Record | D30: Win %
A31: Nexus Nights | B31: =COUNTIF('Match Log'!$E$2:$E$54,$A31) -> 28 | C31: =COUNTIFS('Match Log'!$E$2:$E$54,$A31,'Match Log'!$K$2:$K$54,"W")&"–"&COUNTIFS('Match Log'!$E$2:$E$54,$A31,'Match Log'!$K$2:$K$54,"L")&"–"&COUNTIFS('Match Log'!$E$2:$E$54,$A31,'Match Log'!$K$2:$K$54,"D") -> 17–8–3 | D31: =IFERROR((COUNTIFS('Match Log'!$E$2:$E$54,$A31,'Match Log'!$K$2:$K$54,"W")*3+COUNTIFS('Match Log'!$E$2:$E$54,$A31,'Match Log'!$K$2:$K$54,"D"))/(B31*3),0) -> 0.64285714
A32: Summoner Skirmish | B32: =COUNTIF('Match Log'!$E$2:$E$54,$A32) -> 13 | C32: =COUNTIFS('Match Log'!$E$2:$E$54,$A32,'Match Log'!$K$2:$K$54,"W")&"–"&COUNTIFS('Match Log'!$E$2:$E$54,$A32,'Match Log'!$K$2:$K$54,"L")&"–"&COUNTIFS('Match Log'!$E$2:$E$54,$A32,'Match Log'!$K$2:$K$54,"D") -> 8–3–2 | D32: =IFERROR((COUNTIFS('Match Log'!$E$2:$E$54,$A32,'Match Log'!$K$2:$K$54,"W")*3+COUNTIFS('Match Log'!$E$2:$E$54,$A32,'Match Log'!$K$2:$K$54,"D"))/(B32*3),0) -> 0.66666667
A33: Practice | B33: =COUNTIF('Match Log'!$E$2:$E$54,$A33) -> 12 | C33: =COUNTIFS('Match Log'!$E$2:$E$54,$A33,'Match Log'!$K$2:$K$54,"W")&"–"&COUNTIFS('Match Log'!$E$2:$E$54,$A33,'Match Log'!$K$2:$K$54,"L")&"–"&COUNTIFS('Match Log'!$E$2:$E$54,$A33,'Match Log'!$K$2:$K$54,"D") -> 4–8–0 | D33: =IFERROR((COUNTIFS('Match Log'!$E$2:$E$54,$A33,'Match Log'!$K$2:$K$54,"W")*3+COUNTIFS('Match Log'!$E$2:$E$54,$A33,'Match Log'!$K$2:$K$54,"D"))/(B33*3),0) -> 0.33333333
A35: By set
A36: Set | B36: Played | C36: Record | D36: Win %
A37: Spiritforged | B37: =COUNTIF('Match Log'!$N$2:$N$54,$A37) -> 30 | C37: =COUNTIFS('Match Log'!$N$2:$N$54,$A37,'Match Log'!$K$2:$K$54,"W")&"–"&COUNTIFS('Match Log'!$N$2:$N$54,$A37,'Match Log'!$K$2:$K$54,"L")&"–"&COUNTIFS('Match Log'!$N$2:$N$54,$A37,'Match Log'!$K$2:$K$54,"D") -> 12–15–3 | D37: =IFERROR((COUNTIFS('Match Log'!$N$2:$N$54,$A37,'Match Log'!$K$2:$K$54,"W")*3+COUNTIFS('Match Log'!$N$2:$N$54,$A37,'Match Log'!$K$2:$K$54,"D"))/(B37*3),0) -> 0.43333333
A38: Unleashed | B38: =COUNTIF('Match Log'!$N$2:$N$54,$A38) -> 23 | C38: =COUNTIFS('Match Log'!$N$2:$N$54,$A38,'Match Log'!$K$2:$K$54,"W")&"–"&COUNTIFS('Match Log'!$N$2:$N$54,$A38,'Match Log'!$K$2:$K$54,"L")&"–"&COUNTIFS('Match Log'!$N$2:$N$54,$A38,'Match Log'!$K$2:$K$54,"D") -> 17–4–2 | D38: =IFERROR((COUNTIFS('Match Log'!$N$2:$N$54,$A38,'Match Log'!$K$2:$K$54,"W")*3+COUNTIFS('Match Log'!$N$2:$N$54,$A38,'Match Log'!$K$2:$K$54,"D"))/(B38*3),0) -> 0.76811594
A40: Results split
A41: Wins | B41: =COUNTIF('Match Log'!$K$2:$K$54,"W") -> 29
A42: Losses | B42: =COUNTIF('Match Log'!$K$2:$K$54,"L") -> 19
A43: Draws | B43: =COUNTIF('Match Log'!$K$2:$K$54,"D") -> 5

Sheet Match Log
A1: # | B1: Date | C1: Day | D1: Event / Venue | E1: Type | F1: My Deck | G1: Opponent Deck | H1: Games W | I1: Games L | J1: Score | K1: Result | L1: Pts | M1: Mins | N1: Set | O1: Cum. Win % | P1: streak
A2: 1 | B2: 46121 | C2: Thu | D2: Home / casual | E2: Practice | F2: Sett | G2: Lucian | H2: 2 | I2: 1 | J2: =H2&"–"&I2 -> 2–1 | K2: =IF(H2>I2,"W",IF(H2<I2,"L","D")) -> W | L2: =IF(K2="W",3,IF(K2="D",1,0)) -> 3 | M2: 48 | N2: Spiritforged | O2: =SUM($L$2:L2)/((ROW()-1)*3) -> 1 | P2: =IF(K2="W",1,0) -> 1
A3: 2 | B3: 46121 | C3: Thu | D3: Home / casual | E3: Practice | F3: Sett | G3: Kai'Sa | H3: 1 | I3: 2 | J3: =H3&"–"&I3 -> 1–2 | K3: =IF(H3>I3,"W",IF(H3<I3,"L","D")) -> L | L3: =IF(K3="W",3,IF(K3="D",1,0)) -> 0 | M3: 51 | N3: Spiritforged | O3: =SUM($L$2:L3)/((ROW()-1)*3) -> 0.5 | P3: =IF(K3="W",P2+1,0) -> 0
A4: 3 | B4: 46121 | C4: Thu | D4: Home / casual | E4: Practice | F4: Sett | G4: Rumble | H4: 0 | I4: 2 | J4: =H4&"–"&I4 -> 0–2 | K4: =IF(H4>I4,"W",IF(H4<I4,"L","D")) -> L | L4: =IF(K4="W",3,IF(K4="D",1,0)) -> 0 | M4: 54 | N4: Spiritforged | O4: =SUM($L$2:L4)/((ROW()-1)*3) -> 0.33333333 | P4: =IF(K4="W",P3+1,0) -> 0
A5: 4 | B5: 46121 | C5: Thu | D5: Home / casual | E5: Practice | F5: Sett | G5: Draven | H5: 0 | I5: 2 | J5: =H5&"–"&I5 -> 0–2 | K5: =IF(H5>I5,"W",IF(H5<I5,"L","D")) -> L | L5: =IF(K5="W",3,IF(K5="D",1,0)) -> 0 | M5: 52 | N5: Spiritforged | O5: =SUM($L$2:L5)/((ROW()-1)*3) -> 0.25 | P5: =IF(K5="W",P4+1,0) -> 0
A6: 5 | B6: 46125 | C6: Mon | D6: Dragon's Den Games | E6: Nexus Nights | F6: Irelia | G6: Sivir | H6: 1 | I6: 1 | J6: =H6&"–"&I6 -> 1–1 | K6: =IF(H6>I6,"W",IF(H6<I6,"L","D")) -> D | L6: =IF(K6="W",3,IF(K6="D",1,0)) -> 1 | M6: 50 | N6: Spiritforged | O6: =SUM($L$2:L6)/((ROW()-1)*3) -> 0.26666667 | P6: =IF(K6="W",P5+1,0) -> 0
A7: 6 | B7: 46125 | C7: Mon | D7: Dragon's Den Games | E7: Nexus Nights | F7: Irelia | G7: Kai'Sa | H7: 1 | I7: 2 | J7: =H7&"–"&I7 -> 1–2 | K7: =IF(H7>I7,"W",IF(H7<I7,"L","D")) -> L | L7: =IF(K7="W",3,IF(K7="D",1,0)) -> 0 | M7: 50 | N7: Spiritforged | O7: =SUM($L$2:L7)/((ROW()-1)*3) -> 0.22222222 | P7: =IF(K7="W",P6+1,0) -> 0
A8: 7 | B8: 46125 | C8: Mon | D8: Dragon's Den Games | E8: Nexus Nights | F8: Irelia | G8: Sivir | H8: 1 | I8: 2 | J8: =H8&"–"&I8 -> 1–2 | K8: =IF(H8>I8,"W",IF(H8<I8,"L","D")) -> L | L8: =IF(K8="W",3,IF(K8="D",1,0)) -> 0 | M8: 51 | N8: Spiritforged | O8: =SUM($L$2:L8)/((ROW()-1)*3) -> 0.19047619 | P8: =IF(K8="W",P7+1,0) -> 0
A9: 8 | B9: 46125 | C9: Mon | D9: Dragon's Den Games | E9: Nexus Nights | F9: Irelia | G9: Ornn | H9: 2 | I9: 1 | J9: =H9&"–"&I9 -> 2–1 | K9: =IF(H9>I9,"W",IF(H9<I9,"L","D")) -> W | L9: =IF(K9="W",3,IF(K9="D",1,0)) -> 3 | M9: 51 | N9: Spiritforged | O9: =SUM($L$2:L9)/((ROW()-1)*3) -> 0.29166667 | P9: =IF(K9="W",P8+1,0) -> 1
A10: 9 | B10: 46132 | C10: Mon | D10: Home / casual | E10: Practice | F10: Teemo | G10: Kai'Sa | H10: 0 | I10: 2 | J10: =H10&"–"&I10 -> 0–2 | K10: =IF(H10>I10,"W",IF(H10<I10,"L","D")) -> L | L10: =IF(K10="W",3,IF(K10="D",1,0)) -> 0 | M10: 55 | N10: Spiritforged | O10: =SUM($L$2:L10)/((ROW()-1)*3) -> 0.25925926 | P10: =IF(K10="W",P9+1,0) -> 0
A11: 10 | B11: 46132 | C11: Mon | D11: Home / casual | E11: Practice | F11: Teemo | G11: Draven | H11: 1 | I11: 2 | J11: =H11&"–"&I11 -> 1–2 | K11: =IF(H11>I11,"W",IF(H11<I11,"L","D")) -> L | L11: =IF(K11="W",3,IF(K11="D",1,0)) -> 0 | M11: 53 | N11: Spiritforged | O11: =SUM($L$2:L11)/((ROW()-1)*3) -> 0.23333333 | P11: =IF(K11="W",P10+1,0) -> 0
A12: 11 | B12: 46132 | C12: Mon | D12: Home / casual | E12: Practice | F12: Teemo | G12: Kai'Sa | H12: 2 | I12: 1 | J12: =H12&"–"&I12 -> 2–1 | K12: =IF(H12>I12,"W",IF(H12<I12,"L","D")) -> W | L12: =IF(K12="W",3,IF(K12="D",1,0)) -> 3 | M12: 52 | N12: Spiritforged | O12: =SUM($L$2:L12)/((ROW()-1)*3) -> 0.3030303 | P12: =IF(K12="W",P11+1,0) -> 1
A13: 12 | B13: 46132 | C13: Mon | D13: Home / casual | E13: Practice | F13: Teemo | G13: Lucian | H13: 1 | I13: 2 | J13: =H13&"–"&I13 -> 1–2 | K13: =IF(H13>I13,"W",IF(H13<I13,"L","D")) -> L | L13: =IF(K13="W",3,IF(K13="D",1,0)) -> 0 | M13: 54 | N13: Spiritforged | O13: =SUM($L$2:L13)/((ROW()-1)*3) -> 0.27777778 | P13: =IF(K13="W",P12+1,0) -> 0
A14: 13 | B14: 46136 | C14: Fri | D14: Dragon's Den Games | E14: Nexus Nights | F14: Irelia | G14: Rumble | H14: 2 | I14: 1 | J14: =H14&"–"&I14 -> 2–1 | K14: =IF(H14>I14,"W",IF(H14<I14,"L","D")) -> W | L14: =IF(K14="W",3,IF(K14="D",1,0)) -> 3 | M14: 49 | N14: Spiritforged | O14: =SUM($L$2:L14)/((ROW()-1)*3) -> 0.33333333 | P14: =IF(K14="W",P13+1,0) -> 1
... A54: 53 | B54: 46178 | C54: Fri | D54: Dragon's Den Games | E54: Nexus Nights | F54: LeBlanc | G54: Master Yi | H54: 2 | I54: 1 | J54: =H54&"–"&I54 -> 2–1 | K54: =IF(H54>I54,"W",IF(H54<I54,"L","D")) -> W | L54: =IF(K54="W",3,IF(K54="D",1,0)) -> 3 | M54: 55 | N54: Unleashed | O54: =SUM($L$2:L54)/((ROW()-1)*3) -> 0.57861635 | P54: =IF(K54="W",P53+1,0) -> 3

Sheet Games
A1: Series # | B1: Game # | C1: Date | D1: My Deck | E1: Opp Deck | F1: My | G1: Opp | H1: Result | I1: My Battlefield | J1: Opp Battlefield | K1: Went 1st | L1: Mins
A2: 1 | B2: 1 | C2: 46121 | D2: Sett | E2: Lucian | F2: 8 | G2: 5 | H2: =IF(F2>G2,"W",IF(F2<G2,"L","D")) -> W | I2: Monastery of Hirana | J2: Startipped Peak | K2: Opp | L2: 13
A3: 1 | B3: 2 | C3: 46121 | D3: Sett | E3: Lucian | F3: 4 | G3: 8 | H3: =IF(F3>G3,"W",IF(F3<G3,"L","D")) -> L | I3: Reckoner's Arena | J3: Windswept Hillock | K3: Opp | L3: 12
A4: 1 | B4: 3 | C4: 46121 | D4: Sett | E4: Lucian | F4: 8 | G4: 5 | H4: =IF(F4>G4,"W",IF(F4<G4,"L","D")) -> W | I4: The Grand Plaza | J4: Windswept Hillock | K4: Opp | L4: 14
A5: 2 | B5: 1 | C5: 46121 | D5: Sett | E5: Kai'Sa | F5: 8 | G5: 5 | H5: =IF(F5>G5,"W",IF(F5<G5,"L","D")) -> W | I5: The Grand Plaza | J5: The Dreaming Tree | K5: Opp | L5: 14
A6: 2 | B6: 2 | C6: 46121 | D6: Sett | E6: Kai'Sa | F6: 4 | G6: 8 | H6: =IF(F6>G6,"W",IF(F6<G6,"L","D")) -> L | I6: Trifarian War Camp | J6: Bandle Tree | K6: Me | L6: 14
A7: 2 | B7: 3 | C7: 46121 | D7: Sett | E7: Kai'Sa | F7: 6 | G7: 8 | H7: =IF(F7>G7,"W",IF(F7<G7,"L","D")) -> L | I7: Reckoner's Arena | J7: Windswept Hillock | K7: Opp | L7: 13
A8: 3 | B8: 1 | C8: 46121 | D8: Sett | E8: Rumble | F8: 4 | G8: 8 | H8: =IF(F8>G8,"W",IF(F8<G8,"L","D")) -> L | I8: Sigil of the Storm | J8: Vilemaw's Lair | K8: Opp | L8: 25
A9: 3 | B9: 2 | C9: 46121 | D9: Sett | E9: Rumble | F9: 6 | G9: 8 | H9: =IF(F9>G9,"W",IF(F9<G9,"L","D")) -> L | I9: Navori Fighting Pit | J9: The Dreaming Tree | K9: Me | L9: 24
A10: 4 | B10: 1 | C10: 46121 | D10: Sett | E10: Draven | F10: 2 | G10: 8 | H10: =IF(F10>G10,"W",IF(F10<G10,"L","D")) -> L | I10: Reckoner's Arena | J10: Fortified Position | K10: Opp | L10: 23
A11: 4 | B11: 2 | C11: 46121 | D11: Sett | E11: Draven | F11: 2 | G11: 8 | H11: =IF(F11>G11,"W",IF(F11<G11,"L","D")) -> L | I11: Trifarian War Camp | J11: Obelisk of Power | K11: Opp | L11: 24
A12: 5 | B12: 1 | C12: 46125 | D12: Irelia | E12: Sivir | F12: 8 | G12: 5 | H12: =IF(F12>G12,"W",IF(F12<G12,"L","D")) -> W | I12: Reckoner's Arena | J12: Vilemaw's Lair | K12: Me | L12: 23
A13: 5 | B13: 2 | C13: 46125 | D13: Irelia | E13: Sivir | F13: 4 | G13: 8 | H13: =IF(F13>G13,"W",IF(F13<G13,"L","D")) -> L | I13: Monastery of Hirana | J13: Hallowed Tomb | K13: Me | L13: 22
... A138: 53 | B138: 3 | C138: 46178 | D138: LeBlanc | E138: Master Yi | F138: 8 | G138: 3 | H138: =IF(F138>G138,"W",IF(F138<G138,"L","D")) -> W | I138: Monastery of Hirana | J138: Targon's Peak | K138: Me | L138: 16
